BEGIN:VCALENDAR
VERSION:2.0
PRODID:-//ChamberMaster//Event Calendar 2.0//EN
METHOD:PUBLISH
X-PUBLISHED-TTL:P3D
REFRESH-INTERVAL:P3D
CALSCALE:GREGORIAN
BEGIN:VEVENT
DTSTART:20250601T190000Z
DTEND:20250601T220000Z
X-MICROSOFT-CDO-ALLDAYEVENT:FALSE
SUMMARY:Uptown Animals - A Fundraiser for Elsie's Barnyard
DESCRIPTION:Kick off your summer with Elsie's Barnyard and the Uptown Animals - An animal fashion show and fundraiser!\n\n\n\nJoin us at the Pierce County Fairgrounds for a paw-some event like no other.\n\n\n\nNEW THIS YEAR - Free PONY RIDES for kids! We will also have the petting zoo and animal demonstrations. Watch as adorable furry friends strut their stuff on the runway in the latest fashion trends.\n\n\n\nThis event is all about celebrating our beloved animals and raising funds for Elsie's Barnyard. Get ready for an afternoon filled with cuteness overload and heartwarming moments. Don't miss out on this unique experience that will leave you smiling from ear to ear!\n\n\n\nThis family friendly event is brought to you by Elsie's Barnyard with the goal of raising awareness and funds necessary to fulfill their mission to restore and strengthen the hearts\, minds\, and souls of children and families facing adverse medical conditions through interacting with animals and nature. Elsie's Barnyard provides programs and services for families in Ellsworth and surrounding communities at no cost. To learn more about this organization please visit our website HERE.\n\n\n\nPurchase tickets HERE\n\nEnter your animal in the Fashion Show HERE
X-ALT-DESC;FMTTYPE=text/html:Kick off your summer with Elsie&#39\;s Barnyard and the Uptown Animals - An animal fashion show and fundraiser!<br />\n<br />\nJoin us at the Pierce County Fairgrounds for a paw-some event like no other.<br />\n<br />\nNEW THIS YEAR - Free PONY RIDES for kids! We will also have the petting zoo and animal demonstrations. Watch as adorable furry friends strut their stuff on the runway in the latest fashion trends.<br />\n<br />\nThis event is all about celebrating our beloved animals and raising funds for Elsie&#39\;s Barnyard. Get ready for an afternoon filled with cuteness overload and heartwarming moments. Don&#39\;t miss out on this unique experience that will leave you smiling from ear to ear!<br />\n<br />\nThis family friendly event is brought to you by Elsie&#39\;s Barnyard with the goal of raising awareness and funds necessary to fulfill their mission to restore and strengthen the hearts\, minds\, and souls of children and families facing adverse medical conditions through interacting with animals and nature. Elsie&#39\;s Barnyard provides programs and services for families in Ellsworth and surrounding communities at no cost. To learn more about this organization please visit our website <a href="http://www.elsiesbarnyard.com" target="_blank">HERE</a>.<br />\n<br />\nPurchase tickets <a href="https://app.galabid.com/uptown_animals_2025/event-tickets/92547ed0-c481-440a-97be-a0c7a6c1c32c" target="_blank">HERE</a><br />\nEnter your animal in the Fashion Show <a href="https://elsiesbarnyard.com/events-news/?#Fashion" target="_blank">HERE</a><br type="_moz" />\n&nbsp\;
LOCATION:Drewiske Barn - Pierce County Fairgrounds 364 North Maple Street Ellsworth\, WI 54011
UID:e.2322.7958
SEQUENCE:3
DTSTAMP:20260424T163828Z
URL:https://business.ellsworthchamber.com/events/details/uptown-animals-a-fundraiser-for-elsie-s-barnyard-7958
END:VEVENT

END:VCALENDAR
