BEGIN:VCALENDAR
VERSION:2.0
PRODID:-//ChamberMaster//Event Calendar 2.0//EN
METHOD:PUBLISH
X-PUBLISHED-TTL:P3D
REFRESH-INTERVAL:P3D
CALSCALE:GREGORIAN
BEGIN:VEVENT
DTSTART:20251122T160000Z
DTEND:20251123T040000Z
X-MICROSOFT-CDO-ALLDAYEVENT:FALSE
SUMMARY:Thirsty Badger - 3 Year Anniversary Celebration
DESCRIPTION:Join us to celebrate two years of business at The Thirsty Badger! We will be having drink specials\, prize drawings\, entertainment and more all day long. Hope to see you all!
X-ALT-DESC;FMTTYPE=text/html:Join us to celebrate two years of business at The Thirsty Badger! We will be having drink specials\, prize drawings\, entertainment and more all day long. Hope to see you all!\n<div>&nbsp\;</div>\n
LOCATION:324 West Main Street Ellsworth\, WI 54011
UID:e.2322.8114
SEQUENCE:3
DTSTAMP:20260425T025350Z
URL:https://business.ellsworthchamber.com/events/details/thirsty-badger-3-year-anniversary-celebration-8114
END:VEVENT

END:VCALENDAR
