BEGIN:VCALENDAR
VERSION:2.0
PRODID:-//ChamberMaster//Event Calendar 2.0//EN
METHOD:PUBLISH
X-PUBLISHED-TTL:P3D
REFRESH-INTERVAL:P3D
CALSCALE:GREGORIAN
BEGIN:VEVENT
DTSTART:20250612T230000Z
DTEND:20250613T013000Z
X-MICROSOFT-CDO-ALLDAYEVENT:FALSE
SUMMARY:The Thirsty Badger w/Live Music & Food Truck on the Patio - Featuring Reed Grimm and Jason Craft
DESCRIPTION:Join us for our first live music and food truck event of 2025. We will be having The Hungry Badger food truck (thanks Bridget!) to serve some of your favorites! Also\, if interested\, Reed has offered "live Karaoke" if you like to sing... Please submit your name and the song you'd like to sing that evening via messenger. We will do our best to get you on the schedule!
X-ALT-DESC;FMTTYPE=text/html:<br />\nJoin us for our first live music and food truck event of 2025. We will be having The Hungry Badger food truck (thanks Bridget!) to serve some of your favorites! Also\, if interested\, Reed has offered &quot\;live Karaoke&quot\; if you like to sing... Please submit your name and the song you&#39\;d like to sing that evening via messenger. We will do our best to get you on the schedule!
LOCATION:The Thirsty Badger 324 West Main Street Ellsworth\, WI 54011
UID:e.2322.8036
SEQUENCE:3
DTSTAMP:20260424T180353Z
URL:https://business.ellsworthchamber.com/events/details/the-thirsty-badger-w-live-music-food-truck-on-the-patio-featuring-reed-grimm-and-jason-craft-8036
END:VEVENT

END:VCALENDAR
