BEGIN:VCALENDAR
VERSION:2.0
PRODID:-//ChamberMaster//Event Calendar 2.0//EN
METHOD:PUBLISH
X-PUBLISHED-TTL:P3D
REFRESH-INTERVAL:P3D
CALSCALE:GREGORIAN
BEGIN:VEVENT
DTSTART:20250710T230000Z
DTEND:20250711T013000Z
X-MICROSOFT-CDO-ALLDAYEVENT:FALSE
SUMMARY:The Thirsty Badger w/Live Music & Food Truck on the Patio - Featuring Brent & Sheena
DESCRIPTION:We will be having The Hungry Badger food truck (thanks Bridget!) to serve some of your favorites!\n\n\n\nRed Wing's Brent & Sheena are teachers by day and rockers by night\, who bring you peace\, love\, and music from the 60's to today!
X-ALT-DESC;FMTTYPE=text/html:<br />\nWe will be having The Hungry Badger food truck (thanks Bridget!) to serve some of your favorites!<br />\n<br />\nRed Wing&#39\;s Brent &amp\; Sheena are teachers by day and rockers by night\, who bring you peace\, love\, and music from the 60&#39\;s to today!<br />\n&nbsp\;
LOCATION:The Thirsty Badger 324 West Main Street Ellsworth\, WI 54011
UID:e.2322.8057
SEQUENCE:3
DTSTAMP:20260424T193926Z
URL:https://business.ellsworthchamber.com/events/details/the-thirsty-badger-w-live-music-food-truck-on-the-patio-featuring-brent-sheena-8057
END:VEVENT

END:VCALENDAR
