BEGIN:VCALENDAR
VERSION:2.0
PRODID:-//ChamberMaster//Event Calendar 2.0//EN
METHOD:PUBLISH
X-PUBLISHED-TTL:P3D
REFRESH-INTERVAL:P3D
CALSCALE:GREGORIAN
BEGIN:VEVENT
DTSTART:20250619T210000Z
DTEND:20250620T000000Z
X-MICROSOFT-CDO-ALLDAYEVENT:FALSE
SUMMARY:Sno Hill Chapel - Ribbon Cutting & Grand Opening Celebration
DESCRIPTION:You're Invited!\n\nJoin us as we celebrate the Grand Opening & Ribbon Cutting Ceremony of Sn  Hill Chapel a beautifully reimagined historic church nestled in the countryside of Ellsworth\, WI.\n\nThis 110-year-old Norwegian chapel has been thoughtfully restored and reimagined as a space for weddings\, gatherings\, ministry\, and community. We're so excited to open our doors and share it with you!\n\n\n\n4PM - Ribbon Cutting with the Ellsworth Chamber\n\nGuided tours of the restored chapel\n\n  Refreshments + connection in The Gathering Room\n\n  Learn about upcoming events\, weddings\, worship nights and more! Come celebrate the past\, present\, and future of this sacred space. Whether you're a neighbor\, friend\, local business\, or simply curious you are welcome here.\n\n\n\n5PM - 7PM (Optional) Pizza and a cocktail\, ticketed meal.\n\n\n\nTickets are $25/person\n\n\n\nPlease RSVP / Purchase tickets HERE.
X-ALT-DESC;FMTTYPE=text/html:<br />\nYou&rsquo\;re Invited!<br />\nJoin us as we celebrate the Grand Opening &amp\; Ribbon Cutting Ceremony of Sn&oslash\; Hill Chapel&mdash\;a beautifully reimagined historic church nestled in the countryside of Ellsworth\, WI.<br />\nThis 110-year-old Norwegian chapel has been thoughtfully restored and reimagined as a space for weddings\, gatherings\, ministry\, and community. We&rsquo\;re so excited to open our doors and share it with you!<br />\n<br />\n4PM - Ribbon Cutting with the Ellsworth Chamber<br />\nGuided tours of the restored chapel<br />\n&#10024\; Refreshments + connection in The Gathering Room<br />\n&#10024\; Learn about upcoming events\, weddings\, worship nights and more! Come celebrate the past\, present\, and future of this sacred space. Whether you&#39\;re a neighbor\, friend\, local business\, or simply curious&mdash\;you are welcome here.<br />\n<br />\n5PM - 7PM (Optional) Pizza and a cocktail\, ticketed meal.<br />\n<br />\nTickets are $25/person<br />\n<br />\nPlease RSVP / Purchase tickets <a href="https://forms.gle/erNWmhRhDwBtvroK6" target="_blank">HERE</a>.
LOCATION:Sno Hill Chapel N3699 730th Street Ellsworth\, WI 54011
UID:e.2322.8038
SEQUENCE:3
DTSTAMP:20260424T163904Z
URL:https://business.ellsworthchamber.com/events/details/sno-hill-chapel-ribbon-cutting-grand-opening-celebration-8038
END:VEVENT

END:VCALENDAR
