BEGIN:VCALENDAR
VERSION:2.0
PRODID:-//ChamberMaster//Event Calendar 2.0//EN
METHOD:PUBLISH
X-PUBLISHED-TTL:P3D
REFRESH-INTERVAL:P3D
CALSCALE:GREGORIAN
BEGIN:VEVENT
DTSTART:20250907T170000Z
DTEND:20250907T210000Z
X-MICROSOFT-CDO-ALLDAYEVENT:FALSE
SUMMARY:Sno Hill Chapel - Perlick Distillery Tasting Room Weekend
DESCRIPTION:Perlick Distillery Tasting Room Weekends OPEN TO THE PUBLIC at Sn  Hill Chapel!\n\n\n\nJoin us at Sno Hill Chapel for for the tasty craft cocktails and stay for the cozy vibe and great conversations! We are Wisconsin's newest space for weddings & gatherings. Where history\, love\, faith\, & community come together.\n\n\n\nOur tasting room will be open the first weekend of the month: May 2-4th\, June 6-8th\, July 4th-6th\, August 1-3rd\, September 5-7th\, October 3-5th\, November 7-9th\, December 5-7th
X-ALT-DESC;FMTTYPE=text/html:<br />\nPerlick Distillery Tasting Room Weekends OPEN TO THE PUBLIC at Sn&oslash\; Hill Chapel!<br />\n<br />\nJoin us at Sno Hill Chapel for for the tasty craft cocktails and stay for the cozy vibe and great conversations! We are Wisconsin&rsquo\;s newest space for weddings &amp\; gatherings. Where history\, love\, faith\, &amp\; community come together.<br />\n<br />\nOur tasting room will be open the first weekend of the month: May 2-4th\, June 6-8th\, July 4th-6th\, August 1-3rd\, September 5-7th\, October 3-5th\, November 7-9th\, December 5-7th
LOCATION:Sno Hill Chapel N3699 730th St\, Ellsworth\, WI 54011
UID:e.2322.8022
SEQUENCE:3
DTSTAMP:20260425T012858Z
URL:https://business.ellsworthchamber.com/events/details/sno-hill-chapel-perlick-distillery-tasting-room-weekend-09-07-2025-8022
END:VEVENT

END:VCALENDAR
