BEGIN:VCALENDAR
VERSION:2.0
PRODID:-//ChamberMaster//Event Calendar 2.0//EN
METHOD:PUBLISH
X-PUBLISHED-TTL:P3D
REFRESH-INTERVAL:P3D
CALSCALE:GREGORIAN
BEGIN:VEVENT
DTSTART;VALUE=DATE:20251101
DTEND;VALUE=DATE:20260101
TRANSP:TRANSPARENT
X-MICROSOFT-CDO-ALLDAYEVENT:TRUE
SUMMARY:Small Business Season - 2025
DESCRIPTION:Every Purchase Has a Purpose   Shop Local This Small Business Season\n\n\n\nFrom November 1 through December 31\, we're celebrating Small Business Season   a time to honor the local shops\, restaurants\, and service providers that make Ellsworth such a special place to live\, work\, and visit. Small businesses are the heartbeat of our community\, shaping our culture and preserving the character of our main streets. Each purchase\, meal\, or service you keep local strengthens our economy\, supports local jobs\, and uplifts the friends and neighbors who reinvest right back into our community.\n\n\n\nWhen you choose to shop\, dine\, and do business locally\, you're making a meaningful investment in Ellsworth's future. Small businesses are more than storefronts\, they're the innovators\, risk-takers\, and community supporters who give back in countless ways. This holiday season\, we encourage you to make every purchase count.\n\n\n\n  Support our local retailers\, eateries\, and taverns. Discover special offers\, promotions\, and seasonal sales by checking out HOT DEALS.\n\n\n\n  Consider gifting Ellsworth Bucks this holiday season! This community currency can be purchased and spent like cash at participating local merchants. It's the perfect way to give a gift that stays local and supports our hometown businesses. Learn more at HERE.\n\n\n\n  Looking for local businesses to support? Explore the Ellsworth Chamber Business Directory to find trusted local retailers\, restaurants\, and service providers right here in our community.\n\n\n\nLet's rally behind our small businesses and show that in Ellsworth\, every purchase has a purpose.
X-ALT-DESC;FMTTYPE=text/html:<p>&nbsp\;</p>\n\n<p><strong>Every Purchase Has a Purpose &mdash\; Shop Local This Small Business Season</strong><br />\n<br />\nFrom November 1 through December 31\, we&rsquo\;re celebrating Small Business Season &mdash\; a time to honor the local shops\, restaurants\, and service providers that make Ellsworth such a special place to live\, work\, and visit. Small businesses are the heartbeat of our community\, shaping our culture and preserving the character of our main streets. Each purchase\, meal\, or service you keep local strengthens our economy\, supports local jobs\, and uplifts the friends and neighbors who reinvest right back into our community.<br />\n<br />\nWhen you choose to shop\, dine\, and do business locally\, you&rsquo\;re making a meaningful investment in Ellsworth&rsquo\;s future. Small businesses are more than storefronts\, they&rsquo\;re the innovators\, risk-takers\, and community supporters who give back in countless ways. This holiday season\, we encourage you to make every purchase count.<br />\n<br />\n&#10024\; Support our local retailers\, eateries\, and taverns. Discover special offers\, promotions\, and seasonal sales by checking out&nbsp\;<a href="https://business.ellsworthchamber.com/hotdeals" target="_blank">HOT DEALS</a>.<br />\n<br />\n&#127873\; Consider gifting Ellsworth Bucks this holiday season! This community currency can be purchased and spent like cash at participating local merchants. It&#39\;s the perfect way to give a gift that stays local and supports our hometown businesses. Learn more at <a href="https://www.ellsworthchamber.com/ellsworthbucks/" target="_blank">HERE</a>.<br />\n<br />\n&#128214\; Looking for local businesses to support? Explore the <a href="https://business.ellsworthchamber.com/list" target="_blank">Ellsworth Chamber Business Directory</a>&nbsp\;to find trusted local retailers\, restaurants\, and service providers right here in our community.<br />\n<br />\nLet&rsquo\;s rally behind our small businesses and show that in Ellsworth\, every purchase has a purpose.<br />\n&nbsp\;</p>\n
LOCATION:Search the Ellsworth Chamber Business Directory HERE.
UID:e.2322.8113
SEQUENCE:3
DTSTAMP:20260425T025452Z
URL:https://business.ellsworthchamber.com/events/details/small-business-season-2025-8113
END:VEVENT

END:VCALENDAR
