BEGIN:VCALENDAR
VERSION:2.0
PRODID:-//ChamberMaster//Event Calendar 2.0//EN
METHOD:PUBLISH
X-PUBLISHED-TTL:P3D
REFRESH-INTERVAL:P3D
CALSCALE:GREGORIAN
BEGIN:VEVENT
DTSTART:20250607T233000Z
DTEND:20250608T033000Z
X-MICROSOFT-CDO-ALLDAYEVENT:FALSE
SUMMARY:Showdown in Curd Town - NTPA Truck and Tractor Pull
DESCRIPTION:You can't beat the thrill and excitement of Showdown in Curdtown! Presented by Johnson Tractor/Case IH.\n\n\n\nSaturday\, June 7\, 2025 @ 6:30pm (rain date June 8\, 2025 @ 12pm)\n\n\n\nHeld annually at the Pierce County Fairgrounds in Ellsworth\, WI\, the event is the main fundraiser for the Ellsworth FFA Alumni. Proceeds from the event aid the Ellsworth FFA Chapter\, supporting a scholarship program and leadership development initiatives for its members
X-ALT-DESC;FMTTYPE=text/html:<p><br />\nYou can&#39\;t beat the thrill and excitement of Showdown in Curdtown! Presented by Johnson Tractor/Case IH.<br />\n<br />\nSaturday\, June 7\, 2025 @ 6:30pm (rain date June 8\, 2025 @ 12pm)<br />\n<br />\n<span style="color: rgb(8\, 8\, 9)\; font-family: &quot\;Segoe UI Historic&quot\;\, &quot\;Segoe UI&quot\;\, Helvetica\, Arial\, sans-serif\; font-size: 15px\; font-style: normal\; font-variant-ligatures: normal\; font-variant-caps: normal\; font-weight: 400\; letter-spacing: normal\; orphans: 2\; text-align: start\; text-indent: 0px\; text-transform: none\; widows: 2\; word-spacing: 0px\; -webkit-text-stroke-width: 0px\; white-space: normal\; background-color: rgb(255\, 255\, 255)\; text-decoration-thickness: initial\; text-decoration-style: initial\; text-decoration-color: initial\; display: inline !important\; float: none\;">Held annually at the Pierce County Fairgrounds in Ellsworth\, WI\, the event is the main fundraiser for the Ellsworth FFA Alumni. Proceeds from the event aid the Ellsworth FFA Chapter\, supporting a scholarship program and leadership development initiatives for its members</span></p>\n
LOCATION:Pierce County Fairgrounds 364 N Maple Street Ellsworth WI 54011
UID:e.2322.7995
SEQUENCE:3
DTSTAMP:20260424T163735Z
URL:https://business.ellsworthchamber.com/events/details/showdown-in-curd-town-ntpa-truck-and-tractor-pull-7995
END:VEVENT

END:VCALENDAR
