BEGIN:VCALENDAR
VERSION:2.0
PRODID:-//ChamberMaster//Event Calendar 2.0//EN
METHOD:PUBLISH
X-PUBLISHED-TTL:P3D
REFRESH-INTERVAL:P3D
CALSCALE:GREGORIAN
BEGIN:VEVENT
DTSTART:20250913T140000Z
DTEND:20250913T150000Z
X-MICROSOFT-CDO-ALLDAYEVENT:FALSE
SUMMARY:Sargent's Nursery - Fall Planter Workshop
DESCRIPTION:Celebrate the season in style at our Fall Porch Planter Workshop! Gather your friends\, family\, or coworkers and enjoy a fun\, hands-on experience creating your own autumn porch planter. We'll supply the blooming plants\, unique accents\, and expert tips you just bring your creativity (and your favorite people!). You'll leave with a one-of-a-kind planter that's ready to welcome fall to your front door! \n\nTickets can be purchased online HERE!
X-ALT-DESC;FMTTYPE=text/html:<p>Celebrate the season in style at our Fall Porch Planter Workshop! Gather your friends\, family\, or coworkers and enjoy a fun\, hands-on experience creating your own autumn porch planter. We&rsquo\;ll supply the blooming plants\, unique accents\, and expert tips&mdash\;you just bring your creativity (and your favorite people!). You&rsquo\;ll leave with a one-of-a-kind planter that&rsquo\;s ready to welcome fall to your front door!&nbsp\;<br />\nTickets can be purchased online <a href="https://sargentsnursery.com/events-classes/" target="_blank">HERE</a>!</p>\n
LOCATION:Sargent's Nursery Greenhouse 3352 N. Service Drive Red Wing\, MN 55066
UID:e.2322.8076
SEQUENCE:3
DTSTAMP:20260425T012619Z
URL:https://business.ellsworthchamber.com/events/details/sargent-s-nursery-fall-planter-workshop-09-13-2025-8076
END:VEVENT

END:VCALENDAR
