BEGIN:VCALENDAR
VERSION:2.0
PRODID:-//ChamberMaster//Event Calendar 2.0//EN
METHOD:PUBLISH
X-PUBLISHED-TTL:P3D
REFRESH-INTERVAL:P3D
CALSCALE:GREGORIAN
BEGIN:VEVENT
DTSTART:20250628T143000Z
DTEND:20250628T160000Z
X-MICROSOFT-CDO-ALLDAYEVENT:FALSE
SUMMARY:Ruby's Pantry - Sponsored by Bethal Covenant Church
DESCRIPTION:PLEASE NOTE - THIS IS A SPECIAL PICK UP DATE DUE TO JULY 4TH HOLIDAY!\n\n\n\nRuby's Pantry is a Drive Thru food distribution and is for anyone that is looking to extend their monthly grocery budget. For a $25 bundle donation\, you will receive an abundance of groceries. There is no income or residency requirement. It is a non-profit food ministry serving our rural communities on a monthly basis at sponsoring churches in Minnesota\, Wisconsin\, Iowa and North Dakota.
X-ALT-DESC;FMTTYPE=text/html:PLEASE NOTE - THIS IS A SPECIAL PICK UP DATE DUE TO JULY 4TH HOLIDAY!<br />\n<br />\nRuby&rsquo\;s Pantry is a Drive Thru food distribution and is for anyone that is looking to extend their monthly grocery budget. For a $25 bundle donation\, you will receive an abundance of groceries. There is no income or residency requirement. It is a non-profit food ministry serving our rural communities on a monthly basis at sponsoring churches in Minnesota\, Wisconsin\, Iowa and North Dakota.
LOCATION:Pierce Pepin Cooperative Services (Hwy 10 & 63) W7725 US Hwy 10 Ellsworth\, WI 54011
UID:e.2322.8058
SEQUENCE:3
DTSTAMP:20260424T163622Z
URL:https://business.ellsworthchamber.com/events/details/ruby-s-pantry-sponsored-by-bethal-covenant-church-8058
END:VEVENT

END:VCALENDAR
