BEGIN:VCALENDAR
VERSION:2.0
PRODID:-//ChamberMaster//Event Calendar 2.0//EN
METHOD:PUBLISH
X-PUBLISHED-TTL:P3D
REFRESH-INTERVAL:P3D
CALSCALE:GREGORIAN
BEGIN:VEVENT
DTSTART:20260511T160000Z
DTEND:20260511T164500Z
X-MICROSOFT-CDO-ALLDAYEVENT:FALSE
SUMMARY:Ribbon Cutting - Marlee's Bake Shop
DESCRIPTION:The Ellsworth Chamber of Commerce is excited to officially welcome Marlee's Bake Shop as a new member! Join us for a ribbon cutting ceremony on Monday\, May 11th at 11AM at their location\, 355 West Main Street\, Ellsworth.\n\n\n\nMarlee's Bake Shop is a sweet new addition to our downtown! Offering a variety of treats including pastries\, ice cream\, deconstructed desserts\, dirt sodas\, and her famous artfully designed sugar cookies there's something for everyone.\n\n\n\nBe sure to stop in and see what all the buzz is about!\n\n\n\nHours:\n\nFriday: 7:30 AM   5:00 PM\n\nSaturday: 8:30 AM   4:00 PM\n\nSunday: 8:30 AM   1:00 PM
X-ALT-DESC;FMTTYPE=text/html:<br />\nThe Ellsworth Chamber of Commerce is excited to officially welcome Marlee&#39\;s Bake Shop as a new member! Join us for a ribbon cutting ceremony on Monday\, May 11th at 11AM at their location\, 355 West Main Street\, Ellsworth.<br />\n<br />\nMarlee&rsquo\;s Bake Shop is a sweet new addition to our downtown! Offering a variety of treats including pastries\, ice cream\, deconstructed desserts\, dirt sodas\, and her famous artfully designed sugar cookies&mdash\;there&rsquo\;s something for everyone.<br />\n<br />\nBe sure to stop in and see what all the buzz is about!<br />\n<br />\nHours:<br />\nFriday: 7:30 AM &ndash\; 5:00 PM<br />\nSaturday: 8:30 AM &ndash\; 4:00 PM<br />\nSunday: 8:30 AM &ndash\; 1:00 PM
LOCATION:355 West Main Street Ellsworth\, WI 54011
UID:e.2322.8257
SEQUENCE:3
DTSTAMP:20260420T231925Z
URL:https://business.ellsworthchamber.com/events/details/ribbon-cutting-marlee-s-bake-shop-8257
END:VEVENT

END:VCALENDAR
