BEGIN:VCALENDAR
VERSION:2.0
PRODID:-//ChamberMaster//Event Calendar 2.0//EN
METHOD:PUBLISH
X-PUBLISHED-TTL:P3D
REFRESH-INTERVAL:P3D
CALSCALE:GREGORIAN
BEGIN:VEVENT
DTSTART:20251015T170000Z
DTEND:20251015T173000Z
X-MICROSOFT-CDO-ALLDAYEVENT:FALSE
SUMMARY:Ribbon Cutting - AMK Cleaning
DESCRIPTION:The Ellsworth Chamber of Commerce is excited to welcome AMK Cleaning as a new member! Join us for a ribbon cutting ceremony on Wednesday\, October 15 at 12:00 PM at their location\, 118 North Chestnut Street\, #107\, Ellsworth.\n\n\n\nAMK Cleaning provides residential and commercial custom cleaning services for homes\, offices\, and more. Help us celebrate this new addition to our business community and learn more about the services they offer.
X-ALT-DESC;FMTTYPE=text/html:<br />\nThe Ellsworth Chamber of Commerce is excited to welcome AMK Cleaning as a new member! Join us for a ribbon cutting ceremony on Wednesday\, October 15 at 12:00 PM at their location\, 118 North Chestnut Street\, #107\, Ellsworth.<br />\n<br />\nAMK Cleaning provides residential and commercial custom cleaning services for homes\, offices\, and more. Help us celebrate this new addition to our business community and learn more about the services they offer.
LOCATION:118 North Chestnut Street\, #107 Ellsworth\, WI 54011
UID:e.2322.8094
SEQUENCE:3
DTSTAMP:20260425T012715Z
URL:https://business.ellsworthchamber.com/events/details/ribbon-cutting-amk-cleaning-8094
END:VEVENT

END:VCALENDAR
