BEGIN:VCALENDAR
VERSION:2.0
PRODID:-//ChamberMaster//Event Calendar 2.0//EN
METHOD:PUBLISH
X-PUBLISHED-TTL:P3D
REFRESH-INTERVAL:P3D
CALSCALE:GREGORIAN
BEGIN:VEVENT
DTSTART:20251025T150000Z
DTEND:20251025T170000Z
X-MICROSOFT-CDO-ALLDAYEVENT:FALSE
SUMMARY:Pumpkin in the Park brought to you by the Ellsworth Funsters
DESCRIPTION:Join us for some spooktacular fun!\n\n\n\nJoin us for a fun morning at East End Park in Ellsworth! We will have games and activities for the kids as well as hot dogs\, cookies\, and hot chocolate. There will be a costume contest at 11:30 with prizes for the winners in different age groups. The Ellsworth Library will have their story walk. Bring a canned food donation and you will get a pumpkin!\n\n\n\nBrought to you by the Ellsworth Funsters.
X-ALT-DESC;FMTTYPE=text/html:Join us for some spooktacular fun!<br />\n<br />\nJoin us for a fun morning at East End Park in Ellsworth! We will have games and activities for the kids as well as hot dogs\, cookies\, and hot chocolate. There will be a costume contest at 11:30 with prizes for the winners in different age groups. The Ellsworth Library will have their story walk. Bring a canned food donation and you will get a pumpkin!<br />\n<br />\nBrought to you by the Ellsworth Funsters.
LOCATION:East End Park
UID:e.2322.8109
SEQUENCE:3
DTSTAMP:20260425T013023Z
URL:https://business.ellsworthchamber.com/events/details/pumpkin-in-the-park-brought-to-you-by-the-ellsworth-funsters-8109
END:VEVENT

END:VCALENDAR
