BEGIN:VCALENDAR
VERSION:2.0
PRODID:-//ChamberMaster//Event Calendar 2.0//EN
METHOD:PUBLISH
X-PUBLISHED-TTL:P3D
REFRESH-INTERVAL:P3D
CALSCALE:GREGORIAN
BEGIN:VEVENT
DTSTART:20240928T150000Z
DTEND:20240928T190000Z
X-MICROSOFT-CDO-ALLDAYEVENT:FALSE
SUMMARY:Powered by Electricity
DESCRIPTION:Experience all things electric at the Powered by Electricity event on Saturday\, September 23rd from 10am - 2pm. \n\n\n\nPierce-Pepin Cooperative Services is hosting a GO ELECTRIC showcase with EV test drives\, tools & equipment demos\, and presentations on topics such as: EV Vehicle 101\, Community Solar vs Resident Solar and Energy Storage.\n\n\n\nThis is a FREE event and open to the public.
X-ALT-DESC;FMTTYPE=text/html:Experience all things electric at the Powered by Electricity event on Saturday\, September 23rd from 10am - 2pm.&nbsp\;<br />\n<br />\nPierce-Pepin Cooperative Services is hosting a GO ELECTRIC showcase with EV test drives\, tools &amp\; equipment demos\, and presentations on topics such as: EV Vehicle 101\, Community Solar vs Resident Solar and Energy Storage.<br />\n<br />\nThis is a FREE event and open to the public.
LOCATION:University Wisconsin - River Falls North Hall 410 S. 3rd Street River Falls\, WI 54022
UID:e.2322.6076
SEQUENCE:3
DTSTAMP:20260421T133922Z
URL:https://business.ellsworthchamber.com/events/details/powered-by-electricity-6076
END:VEVENT

END:VCALENDAR
