BEGIN:VCALENDAR
VERSION:2.0
PRODID:-//ChamberMaster//Event Calendar 2.0//EN
METHOD:PUBLISH
X-PUBLISHED-TTL:P3D
REFRESH-INTERVAL:P3D
CALSCALE:GREGORIAN
BEGIN:VEVENT
DTSTART:20250614T200000Z
DTEND:20250615T000000Z
X-MICROSOFT-CDO-ALLDAYEVENT:FALSE
SUMMARY:Painters at Vino in thee Valley - Red Wing Arts Plein Air
DESCRIPTION:Red Wing Arts Plein Air - Painters at Vino in the Valley\n\n\n\nJoin us for a memorable afternoon at Vino in the Valley and experience artists capturing the stunning beauty of the Rush River Valley.\n\n\n\nGather your loved ones\, enjoy a gourmet Italian meal\, and take in the scenic views of the river and surrounding bluffs as painters bring the landscape to life on canvas. Come sip on local wine\, stroll through the vineyard\, and immerse yourself in the creative atmosphere of this picturesque setting.
X-ALT-DESC;FMTTYPE=text/html:<br />\nRed Wing Arts Plein Air - Painters at Vino in the Valley<br />\n<br />\nJoin us for a memorable afternoon at Vino in the Valley and experience artists capturing the stunning beauty of the Rush River Valley.<br />\n<br />\nGather your loved ones\, enjoy a gourmet Italian meal\, and take in the scenic views of the river and surrounding bluffs as painters bring the landscape to life on canvas. Come sip on local wine\, stroll through the vineyard\, and immerse yourself in the creative atmosphere of this picturesque setting.<br />\n<br />\n&nbsp\;
LOCATION:Vino in the Valley W3826 450th Avenue Maiden Rock\, WI 54750
UID:e.2322.8037
SEQUENCE:3
DTSTAMP:20260424T164140Z
URL:https://business.ellsworthchamber.com/events/details/painters-at-vino-in-thee-valley-red-wing-arts-plein-air-8037
END:VEVENT

END:VCALENDAR
