BEGIN:VCALENDAR
VERSION:2.0
PRODID:-//ChamberMaster//Event Calendar 2.0//EN
METHOD:PUBLISH
X-PUBLISHED-TTL:P3D
REFRESH-INTERVAL:P3D
CALSCALE:GREGORIAN
BEGIN:VEVENT
DTSTART:20251120T173000Z
DTEND:20251120T190000Z
X-MICROSOFT-CDO-ALLDAYEVENT:FALSE
SUMMARY:November Member Luncheon - Cutting Costs\, Not Care: Understanding Direct Primary Care
DESCRIPTION:Healthcare costs continue to rise\, leaving many small businesses and individuals searching for better solutions. Direct Primary Care (DPC) is gaining attention as a more affordable\, accessible alternative to traditional healthcare models.\n\n\n\nJoin us as Dr. Gregory Miller of Cascade Primary Care explains how DPC works\, what makes it different\, and why it's becoming a popular choice across the country. You'll learn how DPC prioritizes the doctor-patient relationship\, reduces overhead\, and provides transparent\, membership-based pricing that can benefit both employers and employees.\n\n\n\nDon't miss learning how your business or family could leverage this model to cut costs without compromising quality.\n\nREGISTER TODAY!
X-ALT-DESC;FMTTYPE=text/html:<p>Healthcare costs continue to rise\, leaving many small businesses and individuals searching for better solutions. Direct Primary Care (DPC) is gaining attention as a more affordable\, accessible alternative to traditional healthcare models.<br />\n<br />\nJoin us as Dr. Gregory Miller of Cascade Primary Care explains how DPC works\, what makes it different\, and why it&rsquo\;s becoming a popular choice across the country. You&rsquo\;ll learn how DPC prioritizes the doctor-patient relationship\, reduces overhead\, and provides transparent\, membership-based pricing that can benefit both employers and employees.<br />\n<br />\nDon&#39\;t miss learning how your business or family could leverage this model to cut costs&mdash\;without compromising quality.</p>\n\n<p><a href="https://www.eventbrite.com/e/cutting-costs-not-care-understanding-direct-primary-care-tickets-1871811621949?aff=oddtdtcreator" target="_blank">REGISTER TODAY!</a><br />\n&nbsp\;</p>\n\n<p>&nbsp\;</p>\n
LOCATION:C3 Church 7562 US-10\, Ellsworth\, WI 54011
UID:e.2322.8115
SEQUENCE:3
DTSTAMP:20260425T025815Z
URL:https://business.ellsworthchamber.com/events/details/november-member-luncheon-cutting-costs-not-care-understanding-direct-primary-care-8115
END:VEVENT

END:VCALENDAR
