BEGIN:VCALENDAR
VERSION:2.0
PRODID:-//ChamberMaster//Event Calendar 2.0//EN
METHOD:PUBLISH
X-PUBLISHED-TTL:P3D
REFRESH-INTERVAL:P3D
CALSCALE:GREGORIAN
BEGIN:VEVENT
DTSTART:20250805T220000Z
DTEND:20250806T010000Z
X-MICROSOFT-CDO-ALLDAYEVENT:FALSE
SUMMARY:National Night Out - Ellsworth Block Parties
DESCRIPTION:The Ellsworth Police Department and the Ellsworth Village Board are excited to take our annual National Night Out community building campaign back to its roots. The goal for National Night Out is to build neighborhood camaraderie and enhance the relationship between neighbors and law enforcement with block parties hosted by residents.\n\n\n\nEllsworth will join forces with thousands of communities nationwide for the "39th Annual National Night Out" crime and drug prevention event. National Night Out involves over 16\,540 communities from all 50 states\, U.S. territories\, Canadian cities\, and military bases around the world. In all\, over 38.1 million people are expected to participate in "America's Night Out Against Crime."  \n\n\n\nNational Night out is designed to: (1) Heighten crime and drug prevention awareness\; (2) Generate support for\, and participation in\, local anticrime efforts\, (3) Strengthen neighborhood spirit and police-community partnerships\; and (4) Send a message to criminals letting them know neighborhoods are organized and fighting back.\n\n\n\nThis year's National Night Out will be Tuesday\, August th and we're seeking volunteers to host a party in your yard or on the street in your neighborhood. Most neighborhood events are hosted between 5:00pm and 8:00pm.
X-ALT-DESC;FMTTYPE=text/html:The Ellsworth Police Department and the Ellsworth Village Board are excited to take our annual National Night Out community building campaign back to its roots. The goal for National Night Out is to build neighborhood camaraderie and enhance the relationship between neighbors and law enforcement with block parties hosted by residents.<br />\n<br />\nEllsworth will join forces with thousands of communities nationwide for the &ldquo\;39th Annual National Night Out&rdquo\; crime and drug prevention event. National Night Out involves over 16\,540 communities from all 50 states\, U.S. territories\, Canadian cities\, and military bases around the world. In all\, over 38.1 million people are expected to participate in &ldquo\;America&rsquo\;s Night Out Against Crime.&rdquo\; &nbsp\;<br />\n<br />\nNational Night out is designed to: (1) Heighten crime and drug prevention awareness\; (2) Generate support for\, and participation in\, local anticrime efforts\, (3) Strengthen neighborhood spirit and police-community partnerships\; and (4) Send a message to criminals letting them know neighborhoods are organized and fighting back.<br />\n<br />\nThis year&rsquo\;s National Night Out will be Tuesday\, August th and we&rsquo\;re seeking volunteers to host a party in your yard or on the street in your neighborhood. Most neighborhood events are hosted between 5:00pm and 8:00pm.
LOCATION:Ellsworth\, WI neighborhoods
UID:e.2322.8062
SEQUENCE:3
DTSTAMP:20260425T000002Z
URL:https://business.ellsworthchamber.com/events/details/national-night-out-ellsworth-block-parties-8062
END:VEVENT

END:VCALENDAR
