BEGIN:VCALENDAR
VERSION:2.0
PRODID:-//ChamberMaster//Event Calendar 2.0//EN
METHOD:PUBLISH
X-PUBLISHED-TTL:P3D
REFRESH-INTERVAL:P3D
CALSCALE:GREGORIAN
BEGIN:VEVENT
DTSTART:20250521T233000Z
DTEND:20250522T010000Z
X-MICROSOFT-CDO-ALLDAYEVENT:FALSE
SUMMARY:Make Your Own EXOTIC Facial Oil
DESCRIPTION:Enjoy an evening with friends exploring exotic\, organic seed oils!\n\n\n\nLearn about their unique skincare attributes\, identify your personal skin challenges and choose oils that support your specific needs\, and create your own facial oil using a variety of exotic\, unrefined\, organic seed oils and pure essential oils.\n\n\n\nWorkshop includes:\n\n1.5 hours of instructor-led education and assistance\n\ninformation packet with resources and instructions for creating your oil blend\n\na recipe card for recording your formula\n\nall items needed to create a 1oz facial oil to take home.\n\n\n\nSign up and pay the $25 fee on our website and choose from 2 different dates/times:\n\n	Wednesday\, May 21st\, 6:30PM - 8:00PM\n	Saturday\, May 24th\, 4:30PM - 6:00PM\n\nRegister HERE.
X-ALT-DESC;FMTTYPE=text/html:<br />\nEnjoy an evening with friends exploring exotic\, organic seed oils!<br />\n<br />\nLearn about their unique skincare attributes\, identify your personal skin challenges and choose oils that support your specific needs\, and create your own facial oil using a variety of exotic\, unrefined\, organic seed oils and pure essential oils.<br />\n<br />\nWorkshop includes:<br />\n1.5 hours of instructor-led education and assistance<br />\ninformation packet with resources and instructions for creating your oil blend<br />\na recipe card for recording your formula<br />\nall items needed to create a 1oz facial oil to take home.<br />\n<br />\nSign up and pay the $25 fee on our website and choose from 2 different dates/times:\n<ul>\n	<li>Wednesday\, May 21st\, 6:30PM - 8:00PM</li>\n	<li>Saturday\, May 24th\, 4:30PM - 6:00PM</li>\n</ul>\nRegister <a href="https://www.yburban.com/classes-and-events" target="_blank">HERE</a>.
LOCATION:YB Urban? Aroma Bar 243 Broadway Street Ellsworth\, WI 54011
UID:e.2322.8034
SEQUENCE:3
DTSTAMP:20260424T121810Z
URL:https://business.ellsworthchamber.com/events/details/make-your-own-exotic-facial-oil-8034
END:VEVENT

END:VCALENDAR
