BEGIN:VCALENDAR
VERSION:2.0
PRODID:-//ChamberMaster//Event Calendar 2.0//EN
METHOD:PUBLISH
X-PUBLISHED-TTL:P3D
REFRESH-INTERVAL:P3D
CALSCALE:GREGORIAN
BEGIN:VEVENT
DTSTART:20250510T150000Z
DTEND:20250510T170000Z
X-MICROSOFT-CDO-ALLDAYEVENT:FALSE
SUMMARY:Knot Alone – Widowed Women’s Support Group
DESCRIPTION:You are not alone. Knot Alone is a monthly gathering of widowed women coming together to share stories\, offer support\, and find comfort in fellowship. Whether you're looking for connection\, encouragement\, or simply a place to feel understood\, you're warmly invited to join us for conversation over coffee in a caring space.\n\n\n\nBrought to you by Our Savior's Lutheran Church
X-ALT-DESC;FMTTYPE=text/html:You are not alone. Knot Alone is a monthly gathering of widowed women coming together to share stories\, offer support\, and find comfort in fellowship. Whether you&#39\;re looking for connection\, encouragement\, or simply a place to feel understood\, you&#39\;re warmly invited to join us for conversation over coffee in a caring space.<br />\n<br />\nBrought to you by Our Savior&#39\;s Lutheran Church
LOCATION:El Paso Bar and Grill W4277 County Rd G Ellsworth\, WI 54011
UID:e.2322.8027
SEQUENCE:3
DTSTAMP:20260424T104220Z
URL:https://business.ellsworthchamber.com/events/details/knot-alone-widowed-women-s-support-group-8027
END:VEVENT

END:VCALENDAR
