BEGIN:VCALENDAR
VERSION:2.0
PRODID:-//ChamberMaster//Event Calendar 2.0//EN
METHOD:PUBLISH
X-PUBLISHED-TTL:P3D
REFRESH-INTERVAL:P3D
CALSCALE:GREGORIAN
BEGIN:VEVENT
DTSTART:20250608T153000Z
DTEND:20250608T200000Z
X-MICROSOFT-CDO-ALLDAYEVENT:FALSE
SUMMARY:Kids Fishing Contest - sponsored by the Ellsworth Lions Club
DESCRIPTION:Join the Ellsworth Lions Club at their annual Fishing Contest for Kids on Sunday\, June 8 at Pierce County's Nugget Lake Park. This exciting event is open to kids up to 16 years of age. Bring your rod--fishing poles available for those who need one.\n\nIt is Wisconsin's "no fishing license required day"!\n\n\n\n**Small print:\n\nNugget Lake Park entrance fee is $5.\n\nBait is available for purchase at the park office.
X-ALT-DESC;FMTTYPE=text/html:<p>Join the Ellsworth Lions Club at their annual Fishing Contest for Kids on Sunday\, June 8 at Pierce County&#39\;s Nugget Lake Park. This exciting event is open to kids up to 16 years of age. Bring your rod--fishing poles available for those who need one.</p>\n\n<p>It is Wisconsin&#39\;s &quot\;no fishing license required day&quot\;!<br />\n<br />\n**Small print:<br />\nNugget Lake Park entrance fee is $5.<br />\nBait is available for purchase at the park office.<br />\n&nbsp\;</p>\n
LOCATION:Nugget Lake Park N4351 Cty Rd HH Plum City\, WI 54761
UID:e.2322.7990
SEQUENCE:3
DTSTAMP:20260424T164318Z
URL:https://business.ellsworthchamber.com/events/details/kids-fishing-contest-sponsored-by-the-ellsworth-lions-club-7990
END:VEVENT

END:VCALENDAR
