BEGIN:VCALENDAR
VERSION:2.0
PRODID:-//ChamberMaster//Event Calendar 2.0//EN
METHOD:PUBLISH
X-PUBLISHED-TTL:P3D
REFRESH-INTERVAL:P3D
CALSCALE:GREGORIAN
BEGIN:VEVENT
DTSTART:20251010T123000Z
DTEND:20251010T133000Z
X-MICROSOFT-CDO-ALLDAYEVENT:FALSE
SUMMARY:Kickstarter Morning Networking - hosted by YB Urban? Aroma Bar
DESCRIPTION:Start your day with coffee\, connections\, and a little self-care at YB Urban? Aroma Bar home of small-batch\, plant-based body care and custom scent experiences. Explore their hand-crafted soaps\, lotions\, scrubs\, and essential-oil blends\, learn how they source clean ingredients\, and see why customers love creating signature scents at the Aroma Bar.\n\n\n\nWhile you mingle with fellow members and enjoy light refreshments\, check out new items and upcoming Aroma Bar experiences\, and learn more about the Refill Station a sustainable way to restock favorite products. \n\n\n\nBonus wellness add-on (8:30 a.m.)\n\nIf you'd like\, wear comfortable clothing\, bring a yoga mat (if you have one)\, and stay for a beginner-friendly yoga class at 8:30 a.m. No prior yoga experience needed pose options will be offered for all levels.\n\n\n\nNo registration required. Free to attend for chamber members and their guests. \n\n\n\nAlways the 2nd Friday of every month (except for June-August for summer break)\; event location rotates through various business hosts (this month's event location appears to the right). Raise your business' profile even more by hosting an event!  Contact the Chamber's Admin Team for details here.
X-ALT-DESC;FMTTYPE=text/html:<p>&nbsp\;</p>\n\n<p>Start your day with coffee\, connections\, and a little self-care at YB Urban? Aroma Bar&mdash\;home of small-batch\, plant-based body care and custom scent experiences. Explore their hand-crafted soaps\, lotions\, scrubs\, and essential-oil blends\, learn how they source clean ingredients\, and see why customers love creating signature scents at the Aroma Bar.<br />\n<br />\nWhile you mingle with fellow members and enjoy light refreshments\, check out new items and upcoming Aroma Bar experiences\, and learn more about the Refill Station&mdash\;a sustainable way to restock favorite products.&nbsp\;<br />\n<br />\n<strong>Bonus wellness add-on (8:30 a.m.)</strong><br />\nIf you&rsquo\;d like\, wear comfortable clothing\, bring a yoga mat (if you have one)\, and stay for a beginner-friendly yoga class at 8:30 a.m. No prior yoga experience needed&mdash\;pose options will be offered for all levels.<br />\n<br />\nNo registration required. Free to attend for chamber members and their guests.&nbsp\;<br />\n<br />\nAlways the 2nd Friday of every month (except for June-August for summer break)\; event location rotates through various business hosts (this month&#39\;s event location appears to the right). Raise your business&#39\; profile even more by hosting an event! &nbsp\;Contact the Chamber&#39\;s Admin Team for details <a href="mailto:eteam@ellsworthchamber.com?subject=Tell%20me%20more%20about%20hosting%20a%20Kickstarter%20Event">here</a>.</p>\n
LOCATION:YB Urban? Aroma Bar 243 North Broadway Street Ellsworth\, WI 54011
UID:e.2322.8095
SEQUENCE:3
DTSTAMP:20260425T012732Z
URL:https://business.ellsworthchamber.com/events/details/kickstarter-morning-networking-hosted-by-yb-urban-aroma-bar-8095
END:VEVENT

END:VCALENDAR
