BEGIN:VCALENDAR
VERSION:2.0
PRODID:-//ChamberMaster//Event Calendar 2.0//EN
METHOD:PUBLISH
X-PUBLISHED-TTL:P3D
REFRESH-INTERVAL:P3D
CALSCALE:GREGORIAN
BEGIN:VEVENT
DTSTART:20251212T133000Z
DTEND:20251212T143000Z
X-MICROSOFT-CDO-ALLDAYEVENT:FALSE
SUMMARY:Kickstarter Morning Networking - hosted by Sno Hill Chapel
DESCRIPTION:Sno Hill Chapel will be our host this month. \n\nMeet up with your fellow chamber members for this early morning networking event! Grab a cup of coffee and tap into this active network of business professionals to generate referrals\, increase business and gain valuable advice... all while increasing your confidence and helping business pros just like you.\n\n\n\nAlways the 2nd Friday of every month (except for June-August for summer break)\; event location rotates through various business hosts (this month's event location appears to the right). Raise your business' profile even more by hosting an event!  Contact the Chamber's Admin Team for details here.\n\n\n\nNo registration required. Free to attend for chamber members and their guests.
X-ALT-DESC;FMTTYPE=text/html:<p>Sno Hill Chapel will be our host this month.&nbsp\;</p>\n\n<p>Meet up with your fellow chamber members for this early morning networking event! Grab a cup of coffee and tap into this active network of business professionals to generate referrals\, increase business and gain valuable advice... all while increasing your confidence and helping business pros just like you.<br />\n<br />\nAlways the 2nd Friday of every month (except for June-August for summer break)\; event location rotates through various business hosts (this month&#39\;s event location appears to the right). Raise your business&#39\; profile even more by hosting an event!&nbsp\; Contact the Chamber&#39\;s Admin Team for details here.<br />\n<br />\nNo registration required. Free to attend for chamber members and their guests.&nbsp\;<br />\n&nbsp\;</p>\n
LOCATION:Sno Hill Chapel N3699 730th Street Ellsworth\, WI 54011
UID:e.2322.8097
SEQUENCE:3
DTSTAMP:20260425T040443Z
URL:https://business.ellsworthchamber.com/events/details/kickstarter-morning-networking-hosted-by-sno-hill-chapel-8097
END:VEVENT

END:VCALENDAR
