BEGIN:VCALENDAR
VERSION:2.0
PRODID:-//ChamberMaster//Event Calendar 2.0//EN
METHOD:PUBLISH
X-PUBLISHED-TTL:P3D
REFRESH-INTERVAL:P3D
CALSCALE:GREGORIAN
BEGIN:VEVENT
DTSTART:20251114T133000Z
DTEND:20251114T143000Z
X-MICROSOFT-CDO-ALLDAYEVENT:FALSE
SUMMARY:Kickstarter Morning Networking - hosted by Hiawatha National Bank
DESCRIPTION:This month our host will be Hiawatha National Bank. \n\nMeet up with your fellow-chamber members for this early morning networking event! Grab a cup of coffee and tap into this active network of business professionals to generate referrals\, increase business and gain valuable advice... all while increasing your confidence and helping business pros just like you.\n\n\n\nAlways the 2nd Friday of every month\; event location rotates through various business hosts. Raise your business' profile by hosting an event! Contact the Chamber's Admin Team for details here.
X-ALT-DESC;FMTTYPE=text/html:This month our host will be Hiawatha National Bank.&nbsp\;<br />\nMeet up with your fellow-chamber members for this early morning networking event! Grab a cup of coffee and tap into this active network of business professionals to generate referrals\, increase business and gain valuable advice... all while increasing your confidence and helping business pros just like you.<br />\n<br />\nAlways the 2nd Friday of every month\; event location rotates through various business hosts. Raise your business&#39\; profile by hosting an event! Contact the Chamber&#39\;s Admin Team for details<a href="mailto:eteam@ellsworthchamber.com?subject=Kickstarter"> here</a>.<br />\n&nbsp\;<br />\n&nbsp\;
LOCATION:Hiawatha National Bank N1555 770th Street Hager City\, WI 54014
UID:e.2322.8096
SEQUENCE:3
DTSTAMP:20260425T025524Z
URL:https://business.ellsworthchamber.com/events/details/kickstarter-morning-networking-hosted-by-hiawatha-national-bank-8096
END:VEVENT

END:VCALENDAR
