BEGIN:VCALENDAR
VERSION:2.0
PRODID:-//ChamberMaster//Event Calendar 2.0//EN
METHOD:PUBLISH
X-PUBLISHED-TTL:P3D
REFRESH-INTERVAL:P3D
CALSCALE:GREGORIAN
BEGIN:VEVENT
DTSTART:20250509T123000Z
DTEND:20250509T133000Z
X-MICROSOFT-CDO-ALLDAYEVENT:FALSE
SUMMARY:Kickstarter Morning Networking - hosted by Ellsworth Country Club
DESCRIPTION:This month Ellsworth Country Club will be hosting our energetic group.\n\n\n\nMeet up with your fellow chamber members for this early morning networking event! Grab a cup of coffee and tap into this active network of business professionals to generate referrals\, increase business and gain valuable advice... all while increasing your confidence and helping business pros just like you.\n\n\n\nAlways the 2nd Friday of every month (except for June-August for summer break)\; event location rotates through various business hosts (this month's event location appears to the right). Raise your business' profile even more by hosting an event!  Contact the Chamber's Admin Team for details here.
X-ALT-DESC;FMTTYPE=text/html:This month Ellsworth Country Club will be hosting our energetic group.<br />\n<br />\nMeet up with your fellow chamber members for this early morning networking event! Grab a cup of coffee and tap into this active network of business professionals to generate referrals\, increase business and gain valuable advice... all while increasing your confidence and helping business pros just like you.<br />\n<br />\nAlways the 2nd Friday of every month (except for June-August for summer break)\; event location rotates through various business hosts (this month&#39\;s event location appears to the right). Raise your business&#39\; profile even more by hosting an event! &nbsp\;Contact the Chamber&#39\;s Admin Team for details <a href="mailto:eteam@ellsworthchamber.com?subject=Tell%20me%20more%20about%20hosting%20a%20Kickstarter%20Event">here</a>.
LOCATION:Ellsworth Country Club W6920 Golf Course Lance Ellsworth\, WI 54011
UID:e.2322.6461
SEQUENCE:3
DTSTAMP:20260424T121704Z
URL:https://business.ellsworthchamber.com/events/details/kickstarter-morning-networking-hosted-by-ellsworth-country-club-6461
END:VEVENT

END:VCALENDAR
