BEGIN:VCALENDAR
VERSION:2.0
PRODID:-//ChamberMaster//Event Calendar 2.0//EN
METHOD:PUBLISH
X-PUBLISHED-TTL:P3D
REFRESH-INTERVAL:P3D
CALSCALE:GREGORIAN
BEGIN:VEVENT
DTSTART:20250724T163000Z
DTEND:20250724T180000Z
X-MICROSOFT-CDO-ALLDAYEVENT:FALSE
SUMMARY:July Member Luncheon - Capitol Connections: Legislative Insights with Sen Rob Stafsholt
DESCRIPTION:Join us for a special opportunity to meet State Senator Rob Stafsholt\, hear his perspective from the Capitol\, and learn about the state-level decisions that impact our local community.\n\n\n\nRegister Today!
X-ALT-DESC;FMTTYPE=text/html:<p>Join us for a special opportunity to meet State Senator Rob Stafsholt\, hear his perspective from the Capitol\, and learn about the state-level decisions that impact our local community.<br />\n<br />\n<a href="https://www.eventbrite.com/e/ellsworth-chamber-luncheon-legislative-insights-with-sen-rob-stafsholt-tickets-1450606556259?aff=oddtdtcreator&amp\;utm_source=email&amp\;utm_medium=sparkpost&amp\;utm_campaign=postpublish">Register Today!</a></p>\n\n<p>&nbsp\;</p>\n
LOCATION:C3 Church 7562 US-10\, Ellsworth\, WI 54011
UID:e.2322.8063
SEQUENCE:3
DTSTAMP:20260424T180809Z
URL:https://business.ellsworthchamber.com/events/details/july-member-luncheon-capitol-connections-legislative-insights-with-sen-rob-stafsholt-8063
END:VEVENT

END:VCALENDAR
