BEGIN:VCALENDAR
VERSION:2.0
PRODID:-//ChamberMaster//Event Calendar 2.0//EN
METHOD:PUBLISH
X-PUBLISHED-TTL:P3D
REFRESH-INTERVAL:P3D
CALSCALE:GREGORIAN
BEGIN:VEVENT
DTSTART:20250503T140000Z
DTEND:20250503T190000Z
X-MICROSOFT-CDO-ALLDAYEVENT:FALSE
SUMMARY:Harrington's Greenhouse - Planting Party
DESCRIPTION:Planting Party at the Greenhouse!\n\n\n\nJoin us for a weekend of planting fun in our cozy greenhouse! Let's get our hands dirty and kick off the season together!\n\n	Openings available both Saturday & Sunday.\n	Bring your own pot or purchase one of ours.\n	Choose from a wide variety of beautiful flowers and plants to create your own custom arrangement.\n\nWe provide all the planting supplies - just bring your creativity!\n\nLimited spots available    call to RSVP and save your space! (715) 273-5937
X-ALT-DESC;FMTTYPE=text/html:<br />\nPlanting Party at the Greenhouse!<br />\n<br />\nJoin us for a weekend of planting fun in our cozy greenhouse! Let&rsquo\;s get our hands dirty and kick off the season together!\n<ul>\n	<li>Openings available both Saturday &amp\; Sunday.</li>\n	<li>Bring your own pot or purchase one of ours.</li>\n	<li>Choose from a wide variety of beautiful flowers and plants to create your own custom arrangement.</li>\n</ul>\nWe provide all the planting supplies - just bring your creativity!<br />\nLimited spots available &mdash\;&nbsp\; call to RSVP and save your space! (715) 273-5937<br />\n&nbsp\;
LOCATION:Harrington's Greenhouse 438 West Kinne Street Ellworth\, WI 54011
UID:e.2322.8030
SEQUENCE:3
DTSTAMP:20260424T120053Z
URL:https://business.ellsworthchamber.com/events/details/harrington-s-greenhouse-planting-party-8030
END:VEVENT

END:VCALENDAR
