BEGIN:VCALENDAR
VERSION:2.0
PRODID:-//ChamberMaster//Event Calendar 2.0//EN
METHOD:PUBLISH
X-PUBLISHED-TTL:P3D
REFRESH-INTERVAL:P3D
CALSCALE:GREGORIAN
BEGIN:VEVENT
DTSTART:20251127T140000Z
DTEND:20251127T160000Z
X-MICROSOFT-CDO-ALLDAYEVENT:FALSE
SUMMARY:Gobbler's Gallop 5K/1k Family Walk/Run
DESCRIPTION:The Gobbler's Gallop is a Fundraiser for the Pierce County Food Shelf\n\nsponsored by St. Paul's United Church of Christ Random Acts of Kindness Team\n\n\n\nThanksgiving Morning | November 27\, 2025 | 8:00 a.m. Starting and ending at Nilssen's Foods and Ace Hardware - 157 E. Main Street\, Ellsworth\, WI\n\n\n\n$20 per person/$50 family max. The entry fee includes a t-shirt. The family price includes two shirts and additional shirts are available for $10.\n\n\n\nRegistration must be received by Tuesday\, November 19th to receive a t-shirt. Walk-up registration is available at 7:30 am on the event day.\n\n\n\nRegistration info can be found HERE. Contact Linette Greske for more information.\n\n\n\nAll registrations are non-refundable.
X-ALT-DESC;FMTTYPE=text/html:The Gobbler&rsquo\;s Gallop is a Fundraiser for the Pierce County Food Shelf<br />\nsponsored by St. Paul&rsquo\;s United Church of Christ Random Acts of Kindness Team<br />\n<br />\nThanksgiving Morning | November 27\, 2025 | 8:00 a.m. Starting and ending at Nilssen&rsquo\;s Foods and Ace Hardware - 157 E. Main Street\, Ellsworth\, WI<br />\n<br />\n$20 per person/$50 family max. The entry fee includes a t-shirt. The family price includes two shirts and additional shirts are available for $10.<br />\n<br />\nRegistration must be received by Tuesday\, November 19th to receive a t-shirt. Walk-up registration is available at 7:30 am on the event day.<br />\n<br />\nRegistration info can be found <a href="https://www.spuccellsworth.org/gobblers-gallop" target="_blank">HERE</a>. Contact Linette Greske for more information.<br />\n<br />\nAll registrations are non-refundable.
LOCATION:Nilssen's Foods & Waltz Ace Hardware Parking lots 157 E Main St. Ellsworth\, WI 54011
UID:e.2322.8117
SEQUENCE:3
DTSTAMP:20260425T025914Z
URL:https://business.ellsworthchamber.com/events/details/gobbler-s-gallop-5k-1k-family-walk-run-8117
END:VEVENT

END:VCALENDAR
