BEGIN:VCALENDAR
VERSION:2.0
PRODID:-//ChamberMaster//Event Calendar 2.0//EN
METHOD:PUBLISH
X-PUBLISHED-TTL:P3D
REFRESH-INTERVAL:P3D
CALSCALE:GREGORIAN
BEGIN:VEVENT
DTSTART;VALUE=DATE:20260428
DTEND;VALUE=DATE:20260429
TRANSP:TRANSPARENT
X-MICROSOFT-CDO-ALLDAYEVENT:TRUE
SUMMARY:Give Big Valleys 2026
DESCRIPTION:Give Big Valleys is a 24 hour online giving event hosted by United Way St. Croix and Red Cedar Valleys. On Tuesday\, April 28\, 2026\, community members across Burnett\, Dunn\, Pepin\, Pierce\, Polk\, and St. Croix counties will come together to support local nonprofits through one powerful day of generosity.\n\n\n\nSupporters can discover participating organizations\, make secure online donations\, and create personal fundraising pages HERE. Every gift made on April 28 helps strengthen vital programs and services that support individuals and families throughout our region.
X-ALT-DESC;FMTTYPE=text/html:<br />\nGive Big Valleys is a 24 hour online giving event hosted by United Way St. Croix and Red Cedar Valleys. On Tuesday\, April 28\, 2026\, community members across Burnett\, Dunn\, Pepin\, Pierce\, Polk\, and St. Croix counties will come together to support local nonprofits through one powerful day of generosity.<br />\n<br />\nSupporters can discover participating organizations\, make secure online donations\, and create personal fundraising pages <a href="https://www.givebigvalleys.org/" target="_blank">HERE</a>. Every gift made on April 28 helps strengthen vital programs and services that support individuals and families throughout our region.<br />\n<br />\n&nbsp\;
LOCATION:Online HERE!
UID:e.2322.8243
SEQUENCE:3
DTSTAMP:20260421T081950Z
URL:https://business.ellsworthchamber.com/events/details/give-big-valleys-2026-8243
END:VEVENT

END:VCALENDAR
