BEGIN:VCALENDAR
VERSION:2.0
PRODID:-//ChamberMaster//Event Calendar 2.0//EN
METHOD:PUBLISH
X-PUBLISHED-TTL:P3D
REFRESH-INTERVAL:P3D
CALSCALE:GREGORIAN
BEGIN:VEVENT
DTSTART:20251111T170000Z
DTEND:20251112T020000Z
X-MICROSOFT-CDO-ALLDAYEVENT:FALSE
SUMMARY:Free Veterans Day Buffet at West Wind Supper Club
DESCRIPTION:The Veterans Day Buffet at West Wind Supper Club is our tradition of gratitude for our military service members. In appreciation for serving our great country\, all veterans will receive a complimentary buffet meal.\n\nOur Veterans Day Buffet will feature homemade meatloaf with portabella demi\, baked bone-in chicken\, dumplings & gravy\, mashed potatoes\, steamed house veggies\, Italian pasta salad\, coleslaw\, dinner rolls & butter \n\nPlus\, our popular Soup & Salad Bar!\n\n\n\nLunch Buffet: 11am - 2pm\n\nFREE for all veterans\n\n3 and younger eat FREE!\n\n$14.99 Adult | $9.99 Kids (ages 4-10)\n\n\n\nDinner Buffet: 4pm - 8pm\n\nFREE for all veterans\n\n3 and younger eat FREE!\n\n$24.99 Adult | $9.99 Kids (ages 4-10)\n\n\n\nReserve your family's table by calling 715-425-8100 today!\n\nWalk-ins welcome.\n\nLearn more: https://thewestwind.com/upcoming-events/
X-ALT-DESC;FMTTYPE=text/html:<p>&nbsp\;</p>\n\n<p>The Veterans Day Buffet at West Wind Supper Club is our tradition of gratitude for our military service members. In appreciation for serving our great country\, all veterans will receive a complimentary buffet meal.<br />\nOur Veterans Day Buffet will feature homemade meatloaf with portabella demi\, baked bone-in chicken\, dumplings &amp\; gravy\, mashed potatoes\, steamed house veggies\, Italian pasta salad\, coleslaw\, dinner rolls &amp\; butter&hellip\;<br />\nPlus\, our popular Soup &amp\; Salad Bar!<br />\n<br />\nLunch Buffet: 11am - 2pm<br />\nFREE for all veterans<br />\n3 and younger eat FREE!<br />\n$14.99 Adult | $9.99 Kids (ages 4-10)<br />\n<br />\nDinner Buffet: 4pm - 8pm<br />\nFREE for all veterans<br />\n3 and younger eat FREE!<br />\n$24.99 Adult | $9.99 Kids (ages 4-10)<br />\n<br />\nReserve your family&rsquo\;s table by calling 715-425-8100 today!<br />\nWalk-ins welcome.<br />\nLearn more: https://thewestwind.com/upcoming-events/<br />\n<br />\n&nbsp\;</p>\n
LOCATION:West Wind Supper Club 709 N. Main Street River Falls\, WI
UID:e.2322.8116
SEQUENCE:3
DTSTAMP:20260425T025724Z
URL:https://business.ellsworthchamber.com/events/details/free-veterans-day-buffet-at-west-wind-supper-club-8116
END:VEVENT

END:VCALENDAR
