BEGIN:VCALENDAR
VERSION:2.0
PRODID:-//ChamberMaster//Event Calendar 2.0//EN
METHOD:PUBLISH
X-PUBLISHED-TTL:P3D
REFRESH-INTERVAL:P3D
CALSCALE:GREGORIAN
BEGIN:VEVENT
DTSTART:20250710T213000Z
DTEND:20250711T000000Z
X-MICROSOFT-CDO-ALLDAYEVENT:FALSE
SUMMARY:FLEX Golf Outing
DESCRIPTION:Some of the biggest deals in business have been made on the golf course. We're not making any promises\, but we can guarantee a good time over 9 holes with your fellow FLEXers.\n\n\n\nCome join us at Ellsworth Country Club for 9 holes of golf. Meet up in the clubhouse for a quick social time before hitting the course. This FLEX event is all about socializing and having fun. If you make some connections\, that's a bonus!\n\n\n\nCome and network with other young professionals and take away some new and powerful skills. No need to register--meet us there and bring a friend.\n\n \n\nABOUT FLEX:\n\nFLEX is a networking group specifically for young professionals ranging in age from 21-45 featuring important topics for professional and personal success.\n\n\n\nWe're the future of the Ellsworth area business community and through FLEX we're making contacts and fostering peer-to-peer collaboration in a professional and fun way. You're invited to join us! Learn more here.
X-ALT-DESC;FMTTYPE=text/html:<p>Some of the biggest deals in business have been made on the golf course. We&#39\;re not making any promises\, but we can guarantee a good time over 9 holes with your fellow FLEXers.<br />\n<br />\nCome join us at Ellsworth Country Club for 9 holes of golf. Meet up in the clubhouse for a quick social time before hitting the course. This FLEX event is all about socializing and having fun. If you make some connections\, that&#39\;s a bonus!<br />\n<br />\nCome and network with other young professionals and take away some new and powerful skills. No need to register--meet us there and bring a friend.<br />\n&nbsp\;</p>\n\n<p><strong>ABOUT FLEX:</strong><br />\nFLEX is a networking group specifically for young professionals ranging in age from 21-45 featuring important topics for professional and personal success.<br />\n<br />\nWe&rsquo\;re the future of the Ellsworth area business community and through FLEX we&rsquo\;re making contacts and fostering peer-to-peer collaboration in a professional and fun way. You&#39\;re invited to join us! Learn more <a href="http://www.ellsworthchamber.com/flex" target="_blank">here</a>.</p>\n
LOCATION:Ellsworth Country Club W6920 Golf Course Ln Ellsworth\, WI 54011
UID:e.2322.8061
SEQUENCE:3
DTSTAMP:20260424T175652Z
URL:https://business.ellsworthchamber.com/events/details/flex-golf-outing-8061
END:VEVENT

END:VCALENDAR
