BEGIN:VCALENDAR
VERSION:2.0
PRODID:-//ChamberMaster//Event Calendar 2.0//EN
METHOD:PUBLISH
X-PUBLISHED-TTL:P3D
REFRESH-INTERVAL:P3D
CALSCALE:GREGORIAN
BEGIN:VEVENT
DTSTART:20251003T220000Z
DTEND:20251004T000000Z
X-MICROSOFT-CDO-ALLDAYEVENT:FALSE
SUMMARY:Ellsworth Homecoming Chili Feed
DESCRIPTION:Annual Homecoming Chili Feed\n\nFriday\, October 3\, 2025\n\nEHS Auditorium\n\nDoors open after the parade (approx 5pm)\n\n5:00pm - 7:00pm (before the game)\n\n$7 admission\n\nChildren 5 & under are free\n\nVOTE for your favorite chili (prize for winner!)\n\nRaffles for:\n\n Fall display (donated by Reuvers' Nursery)\n\n 50/50 raffle\n\nAll proceeds benefit: Ellsworth Senior Grad Nite Party!
X-ALT-DESC;FMTTYPE=text/html:<div>\n<p>Annual Homecoming Chili Feed<br />\nFriday\, October 3\, 2025<br />\nEHS Auditorium<br />\nDoors open after the parade (approx 5pm)<br />\n5:00pm - 7:00pm (before the game)<br />\n$7 admission<br />\nChildren 5 &amp\; under are free<br />\nVOTE for your favorite chili (prize for winner!)<br />\nRaffles for:<br />\n&bull\;Fall display (donated by Reuvers&rsquo\; Nursery)<br />\n&bull\;50/50 raffle<br />\nAll proceeds benefit: Ellsworth Senior Grad Nite Party!</p>\n</div>\n
LOCATION:Ellsworth High School 300 Hillcrest Street Ellsworth\, WI 54011
UID:e.2322.8089
SEQUENCE:3
DTSTAMP:20260425T012715Z
URL:https://business.ellsworthchamber.com/events/details/ellsworth-homecoming-chili-feed-8089
END:VEVENT

END:VCALENDAR
