BEGIN:VCALENDAR
VERSION:2.0
PRODID:-//ChamberMaster//Event Calendar 2.0//EN
METHOD:PUBLISH
X-PUBLISHED-TTL:P3D
REFRESH-INTERVAL:P3D
CALSCALE:GREGORIAN
BEGIN:VEVENT
DTSTART:20250619T210000Z
DTEND:20250620T000000Z
X-MICROSOFT-CDO-ALLDAYEVENT:FALSE
SUMMARY:Ellsworth Farmers Market
DESCRIPTION:Join us each Thursday at East End Park for the Ellsworth Farmers Market! Browse a variety of farm\, artisan\, and craft vendors offering seasonal produce\, farm-raised meats and eggs\, baked goods\, handcrafts and more!\n\n\n\nThe Farmers Market will NOT be held on June 26th (Cheese Curd Festival) or August 7th (Pierce County Fair).\n\n\n\nThe Ellsworth Farmers Market is managed by the great folks at St. Paul's United Church of Christ\, Ellsworth.
X-ALT-DESC;FMTTYPE=text/html:<p>&nbsp\;</p>\n\n<p>Join us each Thursday at East End Park for the Ellsworth Farmers Market! Browse a variety of farm\, artisan\, and craft vendors offering seasonal produce\, farm-raised meats and eggs\, baked goods\, handcrafts and more!<br />\n<br />\nThe Farmers Market will NOT be held on June 26th (Cheese Curd Festival) or August 7th (Pierce County Fair).<br />\n<br />\n<em>The Ellsworth Farmers Market is managed by the great folks at St. Paul&rsquo\;s United Church of Christ\, Ellsworth.</em></p>\n
LOCATION:Adjacent to East End Park on Cross Cut Street\, Ellsworth\, WI 54011
UID:e.2322.7969
SEQUENCE:3
DTSTAMP:20260424T164108Z
URL:https://business.ellsworthchamber.com/events/details/ellsworth-farmers-market-06-19-2025-7969
END:VEVENT

END:VCALENDAR
