BEGIN:VCALENDAR
VERSION:2.0
PRODID:-//ChamberMaster//Event Calendar 2.0//EN
METHOD:PUBLISH
X-PUBLISHED-TTL:P3D
REFRESH-INTERVAL:P3D
CALSCALE:GREGORIAN
BEGIN:VEVENT
DTSTART:20251018T150000Z
DTEND:20251018T190000Z
X-MICROSOFT-CDO-ALLDAYEVENT:FALSE
SUMMARY:East End Fall Festival & Cider Crawl
DESCRIPTION:Join us for the annual East End Fall Festival\, a vibrant celebration of the season that showcases the best our downtown has to offer!\n\n\n\nCider Crawl: Sip and savor your way through our delightful cider crawl. Sample a variety of unique and traditional ciders as you stroll between participating businesses.\n\n\n\nProduct Specials: Enjoy exclusive deals and discounts from East End businesses throughout the festival. Whether you're looking for fall aromas\, cozy apparel\, or unique gifts\, there's something special waiting for you!\n\n\n\nPumpkin Carving Contest: Sponsored by Jared Hines-American Family Insurance\, drop off your best pumpkin carving art for the chance to win $100 cash prize! Winner will be determined by popular vote from festival-goers...so tell your friends!\n\nFree Ice Cream Samples: Beat the autumn chill with complimentary ice cream samples at the Ellsworth Cooperative Creamery! Indulge in seasonal flavors and classic favorites while enjoying the festive atmosphere. Also enjoy vendors in the creamery parking lot.\n\n\n\nBring your friends and family to experience the charm of the East End this fall. With activities for all ages and the beauty of the autumn leaves\, it's a perfect way to celebrate the season!\n\n\n\nWe can't wait to see you there!
X-ALT-DESC;FMTTYPE=text/html:<p>&nbsp\;</p>\n\n<p>Join us for the annual East End Fall Festival\, a vibrant celebration of the season that showcases the best our downtown has to offer!<br />\n<br />\nCider Crawl: Sip and savor your way through our delightful cider crawl. Sample a variety of unique and traditional ciders as you stroll between participating businesses.<br />\n<br />\nProduct Specials: Enjoy exclusive deals and discounts from East End businesses throughout the festival. Whether you&rsquo\;re looking for fall aromas\, cozy apparel\, or unique gifts\, there&rsquo\;s something special waiting for you!<br />\n<br />\nPumpkin Carving Contest: Sponsored by Jared Hines-American Family Insurance\, drop off your best pumpkin carving art for the chance to win $100 cash prize! Winner will be determined by popular vote from festival-goers...so tell your friends!<br />\nFree Ice Cream Samples: Beat the autumn chill with complimentary ice cream samples at the Ellsworth Cooperative Creamery! Indulge in seasonal flavors and classic favorites while enjoying the festive atmosphere. Also enjoy vendors in the creamery parking lot.<br />\n<br />\nBring your friends and family to experience the charm of the East End this fall. With activities for all ages and the beauty of the autumn leaves\, it&rsquo\;s a perfect way to celebrate the season!<br />\n<br />\nWe can&rsquo\;t wait to see you there!<span -webkit-text-stroke-width:="" background-color:="" display:="" float:="" font-size:="" font-style:="" font-variant-caps:="" font-variant-ligatures:="" font-weight:="" inline="" letter-spacing:="" orphans:="" segoe="" style="color: rgb(5\, 5\, 5)\; font-family: " text-align:="" text-decoration-color:="" text-decoration-style:="" text-decoration-thickness:="" text-indent:="" text-transform:="" ui="" white-space:="" widows:="" word-spacing:=""><span> </span></span></p>\n
LOCATION:East End Business District Ellsworth\, WI 54011
UID:e.2322.8108
SEQUENCE:3
DTSTAMP:20260425T012714Z
URL:https://business.ellsworthchamber.com/events/details/east-end-fall-festival-cider-crawl-8108
END:VEVENT

END:VCALENDAR
