BEGIN:VCALENDAR
VERSION:2.0
PRODID:-//ChamberMaster//Event Calendar 2.0//EN
METHOD:PUBLISH
X-PUBLISHED-TTL:P3D
REFRESH-INTERVAL:P3D
CALSCALE:GREGORIAN
BEGIN:VEVENT
DTSTART:20251130T170000Z
DTEND:20251130T230000Z
X-MICROSOFT-CDO-ALLDAYEVENT:FALSE
SUMMARY:Christmas Weekends at Vino in the Valley
DESCRIPTION:After a long hiatus\, our Christmas Weekends at Vino in the Valley are returning for 2025!\n\n\n\nIf you've ever visited Vino in the Valley during our Christmas weekends\, you know it's purely magical\; kind of like walking into a Norman Rockwell painting! If you've yet to experience a country Christmas "Vino-style"\, you must check it out for yourself  And bring the whole family!\n\n\n\nThe pavilion is enclosed for the festivities and the heaters keep things nice and warm. Enjoy tractor drawn wagon rides around the vineyard\, visit with Santa & Mrs. Claus (12pm - 3pm)\, or warm up fireside!\n\n\n\nWe will be serving up their famous brick oven Pizzas\, Italian Nachos and signature Creamy Chicken Wild Rice soup w/bread. Oh\, and how can we forget the wine? Yes\, the wine will be flowing (as will the hot cocoa\, hot cider and coffee for those who need a little warm up). And the kiddos will also want to check out our "Cookie Decoration Station"!\n\n\n\nVisit our gift shop where you can pick up a few bottles (or a case) of your favorite Vino in the Valley wines for hostess gifts and your personal holiday enjoyment. And don't forget to bring your gift list and get a few presents handled. The gift shop is fully stocked with merchandise and you can never go wrong with a Vino Gift Certificate.\n\n\n\nVenture across the way and select your family's Christmas tree at Rush River Tree Farm. Tree Farm hours are 9am - 4pm\, Friday\, November 28\, Saturday\, November 29 and Saturday\, December 6th.\n\n\n\nPlan your Christmas outing with family and friends this year at Vino in the Valley!
X-ALT-DESC;FMTTYPE=text/html:<br />\nAfter a long hiatus\, our Christmas Weekends at Vino in the Valley are returning for 2025!<br />\n<br />\nIf you&#39\;ve ever visited Vino in the Valley during our Christmas weekends\, you know it&rsquo\;s purely magical\; kind of like walking into a Norman Rockwell painting! If you&rsquo\;ve yet to experience a country Christmas &ldquo\;Vino-style&rdquo\;\, you must check it out for yourself&hellip\; And bring the whole family!<br />\n<br />\nThe pavilion is enclosed for the festivities and the heaters keep things nice and warm. Enjoy tractor drawn wagon rides around the vineyard\, visit with Santa &amp\; Mrs. Claus (12pm - 3pm)\, or warm up fireside!<br />\n<br />\nWe will be serving up their famous brick oven Pizzas\, Italian Nachos and signature Creamy Chicken Wild Rice soup w/bread. Oh\, and how can we forget the wine? Yes\, the wine will be flowing (as will the hot cocoa\, hot cider and coffee for those who need a little warm up). And the kiddos will also want to check out our &ldquo\;Cookie Decoration Station&rdquo\;!<br />\n<br />\nVisit our gift shop where you can pick up a few bottles (or a case) of your favorite Vino in the Valley wines for hostess gifts and your personal holiday enjoyment. And don&rsquo\;t forget to bring your gift list and get a few presents handled. The gift shop is fully stocked with merchandise and you can never go wrong with a Vino Gift Certificate.<br />\n<br />\nVenture across the way and select your family&rsquo\;s Christmas tree at Rush River Tree Farm. Tree Farm hours are 9am - 4pm\, Friday\, November 28\, Saturday\, November 29 and Saturday\, December 6th.<br />\n<br />\nPlan your Christmas outing with family and friends this year at Vino in the Valley!
LOCATION:Vino in the Valley W3826 450th Ave Maiden Rock\, WI 54750
UID:e.2322.8121
SEQUENCE:3
DTSTAMP:20260425T040753Z
URL:https://business.ellsworthchamber.com/events/details/christmas-weekends-at-vino-in-the-valley-11-30-2025-8121
END:VEVENT

END:VCALENDAR
