BEGIN:VCALENDAR
VERSION:2.0
PRODID:-//ChamberMaster//Event Calendar 2.0//EN
METHOD:PUBLISH
X-PUBLISHED-TTL:P3D
REFRESH-INTERVAL:P3D
CALSCALE:GREGORIAN
BEGIN:VEVENT
DTSTART:20250613T180000Z
DTEND:20250613T213000Z
X-MICROSOFT-CDO-ALLDAYEVENT:FALSE
SUMMARY:Chillin' with the Co-op Ice Cream Social
DESCRIPTION:Stop in at the co-op office on Friday\, June 13\, from 1:00 to 4:30 PM and enjoy an ice cream treat. Members who attend will be entered in our end-of-year prize drawing for three $100 bill credits!
X-ALT-DESC;FMTTYPE=text/html:<br />\nStop in at the co-op office on Friday\, June 13\, from 1:00 to 4:30 PM and enjoy an ice cream treat. Members who attend will be entered in our end-of-year prize drawing for three $100 bill credits!
LOCATION:W7725 US Hwy 10 Ellsworth\, WI 54011
UID:e.2322.8056
SEQUENCE:3
DTSTAMP:20260424T163817Z
URL:https://business.ellsworthchamber.com/events/details/chillin-with-the-co-op-ice-cream-social-8056
END:VEVENT

END:VCALENDAR
