BEGIN:VCALENDAR
VERSION:2.0
PRODID:-//ChamberMaster//Event Calendar 2.0//EN
METHOD:PUBLISH
X-PUBLISHED-TTL:P3D
REFRESH-INTERVAL:P3D
CALSCALE:GREGORIAN
BEGIN:VEVENT
DTSTART:20250826T210000Z
DTEND:20250826T220000Z
X-MICROSOFT-CDO-ALLDAYEVENT:FALSE
SUMMARY:Cascade Primary Care Ribbon-Cutting
DESCRIPTION:Join us in welcoming our newest Ellsworth Chamber member\, Cascade Primary Care! We're teaming up with our friends at the River Falls Chamber of Commerce and Tourism Bureau for a special dual ribbon cutting celebration on Tuesday\, August 26th at 4pm to officially welcome Dr. Greg Miller and the Cascade Primary Care team to the community. \n\n\n\nLocated in River Falls\, Cascade offers a fresh approach to healthcare through their Direct Primary Care model no insurance hassles\, no co-pays\, just unlimited primary care visits for one simple monthly fee. Greg Miller\, M.D. has over 25 years of experience and focuses on personalized\, accessible care that puts patients first. \n \n\nWant to learn more? Visit their WEBSITE\nEmail HERE \n\nPhone: (715) 426-3605
X-ALT-DESC;FMTTYPE=text/html:Join us in welcoming our newest Ellsworth Chamber member\, Cascade Primary Care! We&rsquo\;re teaming up with our friends at the River Falls Chamber of Commerce and Tourism Bureau for a special dual ribbon cutting celebration on Tuesday\, August 26th at 4pm to officially welcome Dr. Greg Miller and the Cascade Primary Care team to the community.&nbsp\;<br />\n<br />\nLocated in River Falls\, Cascade offers a fresh approach to healthcare through their Direct Primary Care model&mdash\;no insurance hassles\, no co-pays\, just unlimited primary care visits for one simple monthly fee. Greg Miller\, M.D. has over 25 years of experience and focuses on personalized\, accessible care that puts patients first.&nbsp\;\n<div>&nbsp\;</div>\n\n<div>Want to learn more? Visit their <a href="http://www.cascadeprimarycare.com" target="_blank">WEBSITE</a></div>\nEmail<a href="mailto:info@cascadeprimarycare.com"> HERE</a>&nbsp\;<br />\nPhone: (715) 426-3605
LOCATION:215 South 2nd Street\, #20 River Falls\, WI 54022
UID:e.2322.8073
SEQUENCE:3
DTSTAMP:20260424T222129Z
URL:https://business.ellsworthchamber.com/events/details/cascade-primary-care-ribbon-cutting-8073
END:VEVENT

END:VCALENDAR
