BEGIN:VCALENDAR
VERSION:2.0
PRODID:-//ChamberMaster//Event Calendar 2.0//EN
METHOD:PUBLISH
X-PUBLISHED-TTL:P3D
REFRESH-INTERVAL:P3D
CALSCALE:GREGORIAN
BEGIN:VEVENT
DTSTART:20250614T210000Z
DTEND:20250615T015500Z
X-MICROSOFT-CDO-ALLDAYEVENT:FALSE
SUMMARY:Broz Bar - Back to the 50's & 60's
DESCRIPTION:Step back in time at Broz Bar and Grill in Ellsworth on Sat. June 14th and relive the 50's and 60's with Live Music by MIDNIGHT SPECIAL 4pm - 8pm.
X-ALT-DESC;FMTTYPE=text/html:<br />\nStep back in time at Broz Bar and Grill in Ellsworth on Sat. June 14th and relive the 50&#39\;s and 60&#39\;s with Live Music by MIDNIGHT SPECIAL 4pm - 8pm.<br type="_moz" />\n&nbsp\;
LOCATION:Broz Bar 455 East Wall Street Ellsworth\, WI 54011
UID:e.2322.8059
SEQUENCE:3
DTSTAMP:20260424T163745Z
URL:https://business.ellsworthchamber.com/events/details/broz-bar-back-to-the-50-s-60-s-8059
END:VEVENT

END:VCALENDAR
