BEGIN:VCALENDAR
VERSION:2.0
PRODID:-//ChamberMaster//Event Calendar 2.0//EN
METHOD:PUBLISH
X-PUBLISHED-TTL:P3D
REFRESH-INTERVAL:P3D
CALSCALE:GREGORIAN
BEGIN:VEVENT
DTSTART:20250726T223000Z
DTEND:20250727T045500Z
X-MICROSOFT-CDO-ALLDAYEVENT:FALSE
SUMMARY:Broz Bar - 20th Anniversary Street Dance
DESCRIPTION:The tradition continues...Broz Bar will block off Wall Street and we'll be partying in the parking lot!\n\n\n\nJoin us for *LIVE* music by HOLLYWOOD BLVD starting at 8pm.
X-ALT-DESC;FMTTYPE=text/html:The tradition continues...Broz Bar will block off Wall Street and we&#39\;ll be partying in the parking lot!<br />\n<br />\nJoin us for *LIVE* music by HOLLYWOOD BLVD starting at 8pm.<br />\n<br />\n&nbsp\;
LOCATION:Broz Bar - Ellsworth 455 East Wall Street Ellsworth\, WI 54011
UID:e.2322.8060
SEQUENCE:3
DTSTAMP:20260424T180153Z
URL:https://business.ellsworthchamber.com/events/details/broz-bar-20th-anniversary-street-dance-8060
END:VEVENT

END:VCALENDAR
