BEGIN:VCALENDAR
VERSION:2.0
PRODID:-//ChamberMaster//Event Calendar 2.0//EN
METHOD:PUBLISH
X-PUBLISHED-TTL:P3D
REFRESH-INTERVAL:P3D
CALSCALE:GREGORIAN
BEGIN:VEVENT
DTSTART:20250520T160000Z
DTEND:20250520T230000Z
X-MICROSOFT-CDO-ALLDAYEVENT:FALSE
SUMMARY:Bethel's Basement Blessings
DESCRIPTION:Bethel Basement Blessings   A Community Outreach Program\n\n\n\nBethel Covenant Church is excited to introduce Bethel Basement Blessings\, a new community outreach program where everything is completely FREE!\n\n\n\nWhether you're looking for clothing for the whole family\, outerwear\, baby items\, household essentials\, linens\, toys\, or more\, we invite you to come and shop no strings attached.\n\n\n\nShopping is open every 3rd Tuesday\, Wednesday\, and Thursday of the month from 11AM   6PM\n\n\n\nDonations of gently used items are always welcome! Please contact the church office at bethelcov@gmail.com for drop-off times or follow our Facebook group for updates HERE.\n\n\n\nTogether\, we can make a difference one blessing at a time!
X-ALT-DESC;FMTTYPE=text/html:Bethel Basement Blessings &ndash\; A Community Outreach Program<br />\n<br />\nBethel Covenant Church is excited to introduce Bethel Basement Blessings\, a new community outreach program where everything is completely FREE!<br />\n<br />\nWhether you&rsquo\;re looking for clothing for the whole family\, outerwear\, baby items\, household essentials\, linens\, toys\, or more\, we invite you to come and shop&mdash\;no strings attached.<br />\n<br />\nShopping is open every 3rd Tuesday\, Wednesday\, and Thursday of the month from 11AM &ndash\; 6PM<br />\n<br />\nDonations of gently used items are always welcome! Please contact the church office at bethelcov@gmail.com for drop-off times or follow our Facebook group for updates <a href="https://www.facebook.com/groups/1265911791313508" target="_blank">HERE</a>.<br />\n<br />\nTogether\, we can make a difference&mdash\;one blessing at a time!<br />\n&nbsp\;
LOCATION:Bethel Covenant Church W8405 County Road KK Ellsworth\, WI 54011
UID:e.2322.7565
SEQUENCE:3
DTSTAMP:20260424T120011Z
URL:https://business.ellsworthchamber.com/events/details/bethel-s-basement-blessings-05-20-2025-7565
END:VEVENT

END:VCALENDAR
