BEGIN:VCALENDAR
VERSION:2.0
PRODID:-//ChamberMaster//Event Calendar 2.0//EN
METHOD:PUBLISH
X-PUBLISHED-TTL:P3D
REFRESH-INTERVAL:P3D
CALSCALE:GREGORIAN
BEGIN:VEVENT
DTSTART:20250823T150000Z
DTEND:20250823T230000Z
X-MICROSOFT-CDO-ALLDAYEVENT:FALSE
SUMMARY:1860 Softball Tournament at Our Savior's Ball Field
DESCRIPTION:Step back in time for a day of vintage fun at the 1860 Softball Tournament!\n\n\n\nJoin us at the iconic Our Saviors Lutheran Church Ball Field for an unforgettable throwback to the 1800s when softball was played with grit\, suspenders\, and old-school charm. It's a picture-perfect\, movie-style experience in the heart of the countryside--you'll feel as though you've stepped into A Field of Dreams! Don't miss the crack of the bat\, the cheer of the crowd\, and a full day of historic fun!\n\n\n\nOld-fashioned rules. Timeless memories.
X-ALT-DESC;FMTTYPE=text/html:<p>&nbsp\;</p>\n\n<p>Step back in time for a day of vintage fun at the 1860 Softball Tournament!<br />\n<br />\nJoin us at the iconic Our Saviors Lutheran Church Ball Field for an unforgettable throwback to the 1800s&mdash\;when softball was played with grit\, suspenders\, and old-school charm. It&rsquo\;s a picture-perfect\, movie-style experience in the heart of the countryside--you&#39\;ll feel as though you&#39\;ve stepped into A Field of Dreams! Don&rsquo\;t miss the crack of the bat\, the cheer of the crowd\, and a full day of historic fun!<br />\n<br />\nOld-fashioned rules. Timeless memories.</p>\n
LOCATION:Our Savior's Lutheran Church Ball Field W5364 County Trunk Hwy N Beldenville\, WI 54003
UID:e.2322.7989
SEQUENCE:3
DTSTAMP:20260424T193711Z
URL:https://business.ellsworthchamber.com/events/details/1860-softball-tournament-at-our-savior-s-ball-field-7989
END:VEVENT

END:VCALENDAR
