BEGIN:VCALENDAR
VERSION:2.0
PRODID:-//ChamberMaster//Event Calendar 2.0//EN
METHOD:PUBLISH
X-PUBLISHED-TTL:P3D
REFRESH-INTERVAL:P3D
CALSCALE:GREGORIAN
BEGIN:VEVENT
DTSTART:20250830T180000Z
DTEND:20250831T020000Z
X-MICROSOFT-CDO-ALLDAYEVENT:FALSE
SUMMARY:12th Annual Rush River Folk Festival!
DESCRIPTION:Vino in the Valley's 12th Annual Rush River Folk Festival is taking place on Saturday\, August 30th from 1pm - 9pm.\n\n\n\nThe event features over six hours of live music from top regional artists\, and admission is free! With the beautiful valley views as their backdrop\, musicians offering a grand mix of sounds and styles of folk music serenade our guests all day long while they enjoy wine\, beer\, and our Italian fare (our pavilion will open starting at noon this day).\n\n\n\nWagon rides around the vineyard and lawn games pass the time between music sets. As the sun falls behind the bluffs and the cooler evening temps roll in\, roaring bonfires take the chill off the air.\n\n\n\nGuests are invited to bring blankets and lawn chairs. What a perfect way to take advantage of our scenic outdoor venue!\nThis year's artists are:\n\n\n	Andy Hanson (1 2:30 p.m.): For artistic inspiration\, Andy draws from a diverse range of influences\, blending the timeless artistry of folk legends from the 1960s with the fresh perspectives of contemporary songwriters.\n	Little Wing (3-4:30 p.m.): Little Wing features the virtuosity and versatility of Faith Ulwelling\, with a vocal style that channels 60s soul\, Delta blues\, and other roots music classics.\n	Matt Yetter (5-6:30 p.m.): Yetter is the real deal: an old-school\, slide guitar playing\, harmonica-tooting country blues artist who characterizes music as "a way of making a connection to everybody all at once."\n	Davey J and Duffy (8:30 p.m.): Davey J (David Jones) is a well-loved performer\, playing on stages large and small for more than 30 years in the Upper Midwest. Duffy Duyfhuizen was born and raised in New York City and came to Eau Claire in 1984 by way of Tulsa\, Okla. His musical influences include urban folk and country folk.
X-ALT-DESC;FMTTYPE=text/html:<br />\nVino in the Valley&#39\;s 12th Annual <a href="https://vinointhevalley.com/event/rush-river-folk-festival-2-2/" target="_blank">Rush River Folk Festival</a> is taking place on Saturday\, August 30th from 1pm - 9pm.<br />\n<br />\nThe event features over six hours of live music from top regional artists\, and admission is free! With the beautiful valley views as their backdrop\, musicians offering a grand mix of sounds and styles of folk music serenade our guests all day long while they enjoy wine\, beer\, and our Italian fare (our pavilion will open starting at noon this day).<br />\n<br />\nWagon rides around the vineyard and lawn games pass the time between music sets. As the sun falls behind the bluffs and the cooler evening temps roll in\, roaring bonfires take the chill off the air.<br />\n<br />\nGuests are invited to bring blankets and lawn chairs. What a perfect way to take advantage of our scenic outdoor venue!\n<p class="pf0"><span class="cf0">This year&#39\;s artists are:</span></p>\n\n<ul>\n	<li class="pf1"><span class="cf0">Andy Hanson (1&ndash\;2:30 p.m.): For artistic inspiration\, Andy draws from a diverse range of influences\, blending the timeless artistry of folk legends from the 1960s with the fresh perspectives of contemporary songwriters.</span></li>\n	<li class="pf1"><span class="cf0">Little Wing (3-4:30 p.m.): Little Wing features the virtuosity and versatility of Faith </span><span class="cf0">Ulwelling</span><span class="cf0">\, with a vocal style that channels 60s soul\, Delta blues\, and other roots music classics.</span></li>\n	<li class="pf1"><span class="cf0">Matt Yetter (5-6:30 p.m.): Yetter is the real deal: an old-school\, slide guitar playing\, harmonica-tooting country blues artist who characterizes music as &ldquo\;a way of making a connection to everybody all at once.&rdquo\;</span></li>\n	<li class="pf1"><span class="cf0">Davey J and Duffy (8:30 p.m.): Davey J (David Jones) is a well-loved performer\, playing on stages large and small for more than 30 years in the Upper Midwest. Duffy </span><span class="cf0">Duyfhuizen</span><span class="cf0"> was born and raised in New York City and came to </span><span class="cf0">Eau</span><span class="cf0"> Claire in 1984 by way of Tulsa\, Okla. His musical influences include urban folk and country folk.</span></li>\n</ul>\n<br />\n&nbsp\;
LOCATION:Vino in the Valley W3826 450th Ave Maiden Rock\, WI 54750
UID:e.2322.8072
SEQUENCE:3
DTSTAMP:20260424T193312Z
URL:https://business.ellsworthchamber.com/events/details/12th-annual-rush-river-folk-festival-8072
END:VEVENT

END:VCALENDAR
